BEGIN:VCALENDAR
VERSION:2.0
PRODID:-//Samadhi Yoga Ayurveda Institute - ECPv6.15.13.1//NONSGML v1.0//EN
CALSCALE:GREGORIAN
METHOD:PUBLISH
X-WR-CALNAME:Samadhi Yoga Ayurveda Institute
X-ORIGINAL-URL:https://miyoga.com
X-WR-CALDESC:Events for Samadhi Yoga Ayurveda Institute
REFRESH-INTERVAL;VALUE=DURATION:PT1H
X-Robots-Tag:noindex
X-PUBLISHED-TTL:PT1H
BEGIN:VTIMEZONE
TZID:America/Puerto_Rico
BEGIN:STANDARD
TZOFFSETFROM:-0400
TZOFFSETTO:-0400
TZNAME:AST
DTSTART:20210101T000000
END:STANDARD
END:VTIMEZONE
BEGIN:VEVENT
DTSTART;TZID=America/Puerto_Rico:20230402T113000
DTEND;TZID=America/Puerto_Rico:20230402T133000
DTSTAMP:20260420T141241
CREATED:20230121T181601Z
LAST-MODIFIED:20230121T221940Z
UID:4282-1680435000-1680442200@miyoga.com
SUMMARY:Yoga para Cuerpos Abundantes
DESCRIPTION:Serie de posturas con las modificaciones para encontrar la comodidad y el progreso en todos los cuerpos.
URL:https://miyoga.com/event/yoga-para-cuerpos-abundantes/
LOCATION:Samadhi Yoga & Ayurveda Institute\, 800 Av. Roberto H. Todd #203\, San Juan\, PR\, 00907
CATEGORIES:clases especiales
ATTACH;FMTTYPE=image/jpeg:https://miyoga.com/wp-content/uploads/2023/01/WhatsApp-Image-2023-01-20-at-2.32.50-PM-1.jpeg
END:VEVENT
BEGIN:VEVENT
DTSTART;TZID=America/Puerto_Rico:20230212T120000
DTEND;TZID=America/Puerto_Rico:20230212T140000
DTSTAMP:20260420T141241
CREATED:20230121T173843Z
LAST-MODIFIED:20230122T002823Z
UID:4260-1676203200-1676210400@miyoga.com
SUMMARY:Regálate Amor Propio ❤️
DESCRIPTION:Conversatorio corto enfocado en el amor propio y el autocuidado. Una clase para conectar con tu ser a través de la intención alineada a re-dirigir el amor\, atendiendo los 5 cuerpos. Trabajando el alineamiento y los pranayamas con el propósito de mover la energía. Comenzamos con una meditación guiada\, moviéndonos a una práctica suave y fluida enfocada en los movimientos que nos van preparando a abrir el corazón e ir conectando con el cuerpo físico. Todo esto orquestado entre música y aromaterapia para que salgas enamorade de ti.
URL:https://miyoga.com/event/regalate-amor-propio/
LOCATION:Samadhi Yoga & Ayurveda Institute\, 800 Av. Roberto H. Todd #203\, San Juan\, PR\, 00907
CATEGORIES:clases especiales
ATTACH;FMTTYPE=image/jpeg:https://miyoga.com/wp-content/uploads/2023/01/WhatsApp-Image-2023-01-20-at-2.32.49-PM.jpeg
END:VEVENT
BEGIN:VEVENT
DTSTART;TZID=America/Puerto_Rico:20230211T120000
DTEND;TZID=America/Puerto_Rico:20230211T133000
DTSTAMP:20260420T141241
CREATED:20230121T174834Z
LAST-MODIFIED:20230201T172325Z
UID:4265-1676116800-1676122200@miyoga.com
SUMMARY:Serie Yoga Aérea "Dale Alas a tu Práctica"
DESCRIPTION:4 clases para que explores y te familiarices con el mundo del yoga de suspensión con confianza y seguridad para disfrutar los beneficios de esta hermosa práctica y tomes confianza en el columpio.-Básica: Clase de espectro completo en 3 planos de altura y las inversiones primarias.-Flexibilidad: Encuentra nuevos espacios y profundidad en el cuerpo\, sentiras la expansión y liberación al finalizar la sesión.-Energizante: Fortalecimiento de el tronco\, aumentar calor y subir energía.-Restaurativa: Suéltalo todo. \n\n\n\n📆 4 sábados consecutivos en el mes de febrero y marzo (11\, 18\, 25 y 4 de marzo) \n\n\n\n\n\n\nSerie con columpio\n\n\n\nSerie sin columpio
URL:https://miyoga.com/event/serie-yoga-aerea/
LOCATION:Samadhi Yoga & Ayurveda Institute\, 800 Av. Roberto H. Todd #203\, San Juan\, PR\, 00907
ATTACH;FMTTYPE=image/jpeg:https://miyoga.com/wp-content/uploads/2022/09/aerial-different-inversion-antigravity-yoga-with-a-2021-08-26-15-27-41-utc.jpg
END:VEVENT
BEGIN:VEVENT
DTSTART;TZID=America/Puerto_Rico:20221221T181500
DTEND;TZID=America/Puerto_Rico:20221221T201500
DTSTAMP:20260420T141241
CREATED:20221115T145051Z
LAST-MODIFIED:20221115T145817Z
UID:4160-1671646500-1671653700@miyoga.com
SUMMARY:Yogatón Navideño con Sound Healing
DESCRIPTION:Ven a disfrutar de una clase para liberar el cuerpo y alivianar el alma mientras las frecuencias sanadoras de los cuencos de cristal restauran la energía para pasar las navidades en armonia y recibir el nuevo anio livianitos y con el corazón abierto.
URL:https://miyoga.com/event/yogaton-navideno-con-sound-healing/
LOCATION:Samadhi Yoga & Ayurveda Institute\, 800 Av. Roberto H. Todd #203\, San Juan\, PR\, 00907
CATEGORIES:clases especiales
ATTACH;FMTTYPE=image/jpeg:https://miyoga.com/wp-content/uploads/2022/11/240_F_291308626_TVeVlVrSAddzGAOBPiu7sqXAasZRiPw2.jpg
END:VEVENT
BEGIN:VEVENT
DTSTART;TZID=America/Puerto_Rico:20221123T181500
DTEND;TZID=America/Puerto_Rico:20221123T203000
DTSTAMP:20260420T141241
CREATED:20220908T002131Z
LAST-MODIFIED:20220908T003643Z
UID:4073-1669227300-1669235400@miyoga.com
SUMMARY:Agradece a la Luz de las Velas
DESCRIPTION:Agradece a la Luz de las Velas – La rueda de la Abundancia la mueve un corazón Agradecido. Ven a nuestra tradicional clase especial en total agradecimiento por lo vivido y en apertura total a recibir los deseos de nuestro corazón. Acompaña a Lizelle Arzuaga y las maestras de Samadhi en una clase llena de amor\, vibrando en la frecuencia más alta preparando el camino en miras a un nuevo año.
URL:https://miyoga.com/event/agradece-a-la-luz-de-las-velas/
LOCATION:Samadhi Yoga & Ayurveda Institute\, 800 Av. Roberto H. Todd #203\, San Juan\, PR\, 00907
ATTACH;FMTTYPE=image/jpeg:https://miyoga.com/wp-content/uploads/2022/09/istockphoto-1299679830-612x612-1.jpg
END:VEVENT
BEGIN:VEVENT
DTSTART;TZID=America/Puerto_Rico:20221122T181500
DTEND;TZID=America/Puerto_Rico:20221122T203000
DTSTAMP:20260420T141241
CREATED:20221114T180722Z
LAST-MODIFIED:20221114T180723Z
UID:4150-1669140900-1669149000@miyoga.com
SUMMARY:Agradece a la Luz de las Velas
DESCRIPTION:Agradece a la Luz de las Velas – La rueda de la Abundancia la mueve un corazón Agradecido. Ven a nuestra tradicional clase especial en total agradecimiento por lo vivido y en apertura total a recibir los deseos de nuestro corazón. Acompaña a Lizelle Arzuaga y las maestras de Samadhi en una clase llena de amor\, vibrando en la frecuencia más alta preparando el camino en miras a un nuevo año.
URL:https://miyoga.com/event/agradece-a-la-luz-de-las-velas-2/
LOCATION:Samadhi Yoga & Ayurveda Institute\, 800 Av. Roberto H. Todd #203\, San Juan\, PR\, 00907
ATTACH;FMTTYPE=image/jpeg:https://miyoga.com/wp-content/uploads/2022/09/istockphoto-1299679830-612x612-1.jpg
END:VEVENT
BEGIN:VEVENT
DTSTART;TZID=America/Puerto_Rico:20221114T080000
DTEND;TZID=America/Puerto_Rico:20221114T170000
DTSTAMP:20260420T141241
CREATED:20221114T181759Z
LAST-MODIFIED:20221114T182321Z
UID:4152-1668412800-1668445200@miyoga.com
SUMMARY:Aero Spa restaurativo en el Cloud Swing
DESCRIPTION:Experiencia sublime. Deleita tus sentidos mientras derrites y sueltas lo que te pesa\, flotando en un cloud swing. Suelta todo tu cuerpo de forma gentil y deliciosa\, respira profundo mientras recibes una sesión de sound healing con cuencos de cuarzo. Goza de esta Terapia de suspensión con aromaterapia y sound healing. Encuentra un estado de balance emocional\, paz\, calma y plenitud.Esta experiencia es diseñada y facilitada por Lizelle Arzuaga- Master Yoga Therapist y Directora de Samadhi Yoga Institute
URL:https://miyoga.com/event/aero-spa-restaurativo-en-el-cloud-swing/
LOCATION:PR
ATTACH;FMTTYPE=image/jpeg:https://miyoga.com/wp-content/uploads/2022/11/aerial-different-inversion-antigravity-yoga-with-a-2021-08-26-15-27-41-utc-2.jpg
END:VEVENT
BEGIN:VEVENT
DTSTART;TZID=America/Puerto_Rico:20221112T130000
DTEND;TZID=America/Puerto_Rico:20221112T150000
DTSTAMP:20260420T141241
CREATED:20220908T001413Z
LAST-MODIFIED:20221110T012658Z
UID:4068-1668258000-1668265200@miyoga.com
SUMMARY:Taller de Inversiones + Arm Balances
DESCRIPTION:Aprende los ejercicios preparatorios para lograr inversiones y balances de brazos con confianza y seguridad\, activando las acciones del cuerpo que fortalecen y protegen a estos grupos de posturas. Mediante el uso de utilería y la pared encontrarás distintas maneras de entrar y permanecer en las posturas clave. Exploraremos paradas de cabeza trípode y sirsasana y en grupo de balances de brazos bakasana (crow) y variaciones a otros balances de brazos.
URL:https://miyoga.com/event/taller-de-inversiones-arm-balances/
LOCATION:Samadhi Yoga & Ayurveda Institute\, 800 Av. Roberto H. Todd #203\, San Juan\, PR\, 00907
CATEGORIES:Taller
ATTACH;FMTTYPE=image/jpeg:https://miyoga.com/wp-content/uploads/2018/09/annie-3.jpg
END:VEVENT
BEGIN:VEVENT
DTSTART;TZID=America/Puerto_Rico:20221105T051500
DTEND;TZID=America/Puerto_Rico:20221105T071500
DTSTAMP:20260420T141241
CREATED:20220906T155827Z
LAST-MODIFIED:20220908T000615Z
UID:4006-1667625300-1667632500@miyoga.com
SUMMARY:Serie Aérea Intermedia- 3 clases
DESCRIPTION:Serie Aérea Intermedia: Dale Alas a tu Práctica – Serie de 3 clases para que explores mas a fondo y te familiarices con este maravilloso mundo de la yoga de suspensión con confianza y seguridad para que disfrutes los beneficios de esta hermosa práctica\, tomes confianza en el columpio y alces vuelo. \n\n\n\n\n\n*Alquiler de Columpio $8 \n\n\n\n\nCon columpio $240\n\n\n\nSin columpio $90
URL:https://miyoga.com/event/serie-aerea-mananera-4-clases-2/
LOCATION:Samadhi Yoga & Ayurveda Institute\, 800 Av. Roberto H. Todd #203\, San Juan\, PR\, 00907
ATTACH;FMTTYPE=image/jpeg:https://miyoga.com/wp-content/uploads/2022/09/aerial-different-inversion-antigravity-yoga-with-a-2021-08-26-15-27-41-utc.jpg
END:VEVENT
BEGIN:VEVENT
DTSTART;TZID=America/Puerto_Rico:20221016T080000
DTEND;TZID=America/Puerto_Rico:20221016T170000
DTSTAMP:20260420T141241
CREATED:20220907T232347Z
LAST-MODIFIED:20220908T004429Z
UID:4042-1665907200-1665939600@miyoga.com
SUMMARY:1 Day Reatreat
DESCRIPTION:Prácticas de Yoga con Sound healing en vivo\, taller de auto masaje\, Baños de fango\, Prácticas en la naturaleza\, terapia de agua en el rio y muchas sorpresas más en nuestro bosque de transformación.Tu mente y cuerpo saldrán renovados de esta profunda experiencia ¡GARANTIZADO! \n\n\n\n🧘🏽‍♀️EXPERIENCIA DISEÑADA Y GUIADA POR: Lizelle Arzuaga*NO INCLUYE COMIDA*Debes traer tu almuerzo\, snacks y agua…es mejor estar livianos para esta experiencia.
URL:https://miyoga.com/event/1-day-reatreat/
LOCATION:Samadhi Yoga & Ayurveda Institute\, 800 Av. Roberto H. Todd #203\, San Juan\, PR\, 00907
ATTACH;FMTTYPE=image/jpeg:https://miyoga.com/wp-content/uploads/2022/09/group-or-women-practicing-yoga-with-raised-arms-in-2022-03-03-11-23-53-utc.jpg
END:VEVENT
BEGIN:VEVENT
DTSTART;TZID=America/Puerto_Rico:20221005T051500
DTEND;TZID=America/Puerto_Rico:20221005T071500
DTSTAMP:20260420T141241
CREATED:20220906T155705Z
LAST-MODIFIED:20220908T000533Z
UID:4004-1664946900-1664954100@miyoga.com
SUMMARY:Serie Aérea Mañanera- 4 clases
DESCRIPTION:Serie Aérea Mañanera– 4 clases para que explores y te familiarices con el mundo del yoga de suspensión con confianza y seguridad para disfrutar los beneficios de esta hermosa práctica y tomes confianza en el columpio.  \n\n\n\n📆 4 miércoles consecutivos en el mes de octubre (5\, 12\, 19 y 26) \n\n\n\n\n\nBásica: Clase de espectro completo en 3 planos de altura y las inversiones primarias. Flexibilidad: Encuentra nuevos espacios y profundidad en el cuerpo\, sentiras la expansión y liberación al finalizar la sesión.Energizante: Fortalecimiento de el tronco\, aumentar calor y subir energía.Restaurativa: Suéltalo\n\n\n\n* Alquiler de Columpio $8 \n\n\n\n\nCon columpio $270\n\n\n\nSin columpio $120
URL:https://miyoga.com/event/serie-aerea-mananera-4-clases/
LOCATION:Samadhi Yoga & Ayurveda Institute\, 800 Av. Roberto H. Todd #203\, San Juan\, PR\, 00907
ATTACH;FMTTYPE=image/jpeg:https://miyoga.com/wp-content/uploads/2018/11/yoga-aerea-hero.jpg
END:VEVENT
BEGIN:VEVENT
DTSTART;TZID=America/Puerto_Rico:20220921T181500
DTEND;TZID=America/Puerto_Rico:20220921T194500
DTSTAMP:20260420T141241
CREATED:20220907T160331Z
LAST-MODIFIED:20220908T003928Z
UID:4022-1663784100-1663789500@miyoga.com
SUMMARY:Clase Especial: Equinoccio de Otoño con Sound Healing
DESCRIPTION:El equinoccio de otoño es un momento en el que las energías de la luz y la oscuridad se mantienen en equilibrio\, la duración del día y la noche son perfectamente iguales. Esta clase tendra un enfoque relajante y de balance. Al honrar el equilibrio de la luz y la oscuridad en el equinoccio\, integramos el balance en el cuerpo. Una practica que no ayude a liberarnos y asentarnos\, honrando el giro estacional de la Tierra hacia el descanso y la regeneración. \n\n\n\n\nReserva aquí
URL:https://miyoga.com/event/clase-especial-equinocio-de-otono-c-sound-healing/
LOCATION:Samadhi Yoga & Ayurveda Institute\, 800 Av. Roberto H. Todd #203\, San Juan\, PR\, 00907
ATTACH;FMTTYPE=image/webp:https://miyoga.com/wp-content/uploads/2022/09/yoga-in-nature-young-woman-practicing-yoga-on-lak-2022-04-06-05-48-11-utc-scaled-2.webp
END:VEVENT
END:VCALENDAR